BEGIN:VCALENDAR
VERSION:2.0
PRODID:-//Village of Poplar, Douglas County, Wisconsin - ECPv6.15.17.1//NONSGML v1.0//EN
CALSCALE:GREGORIAN
METHOD:PUBLISH
X-WR-CALNAME:Village of Poplar, Douglas County, Wisconsin
X-ORIGINAL-URL:https://villageofpoplar.com
X-WR-CALDESC:Events for Village of Poplar, Douglas County, Wisconsin
REFRESH-INTERVAL;VALUE=DURATION:PT1H
X-Robots-Tag:noindex
X-PUBLISHED-TTL:PT1H
BEGIN:VTIMEZONE
TZID:America/Chicago
BEGIN:DAYLIGHT
TZOFFSETFROM:-0600
TZOFFSETTO:-0500
TZNAME:CDT
DTSTART:20190310T080000
END:DAYLIGHT
BEGIN:STANDARD
TZOFFSETFROM:-0500
TZOFFSETTO:-0600
TZNAME:CST
DTSTART:20191103T070000
END:STANDARD
BEGIN:DAYLIGHT
TZOFFSETFROM:-0600
TZOFFSETTO:-0500
TZNAME:CDT
DTSTART:20200308T080000
END:DAYLIGHT
BEGIN:STANDARD
TZOFFSETFROM:-0500
TZOFFSETTO:-0600
TZNAME:CST
DTSTART:20201101T070000
END:STANDARD
BEGIN:DAYLIGHT
TZOFFSETFROM:-0600
TZOFFSETTO:-0500
TZNAME:CDT
DTSTART:20210314T080000
END:DAYLIGHT
BEGIN:STANDARD
TZOFFSETFROM:-0500
TZOFFSETTO:-0600
TZNAME:CST
DTSTART:20211107T070000
END:STANDARD
END:VTIMEZONE
BEGIN:VEVENT
DTSTART;TZID=America/Chicago:20200609T170000
DTEND;TZID=America/Chicago:20200609T190000
DTSTAMP:20260424T224700
CREATED:20200605T180715Z
LAST-MODIFIED:20200605T180715Z
UID:10000339-1591722000-1591729200@villageofpoplar.com
SUMMARY:Board of Review
DESCRIPTION:The Board of Review will be held from 5:00 p.m. to 7:00 p.m.
URL:https://villageofpoplar.com/event/board-of-review-3/
CATEGORIES:Board of Review
END:VEVENT
BEGIN:VEVENT
DTSTART;TZID=America/Chicago:20200602T183000
DTEND;TZID=America/Chicago:20200602T183000
DTSTAMP:20260424T224700
CREATED:20191218T013833Z
LAST-MODIFIED:20201012T003803Z
UID:10000307-1591122600-1591122600@villageofpoplar.com
SUMMARY:Sewer Commission Meeting
DESCRIPTION:
URL:https://villageofpoplar.com/event/sewer-commission-meeting-15/2020-06-02/
CATEGORIES:Sewer Commission
END:VEVENT
BEGIN:VEVENT
DTSTART;TZID=America/Chicago:20200528T180000
DTEND;TZID=America/Chicago:20200528T190000
DTSTAMP:20260424T224700
CREATED:20200527T134850Z
LAST-MODIFIED:20200527T134900Z
UID:10000338-1590688800-1590692400@villageofpoplar.com
SUMMARY:Roads and Culverts Meeting
DESCRIPTION:NOTICE:  There will be a Roads and Culverts Meeting on Thursday\, May 28 at 6:00 p.m.  The meeting will be held at the Village Hall at 4932 S Village Road.  The purpose of the meeting is to discuss the projects for 2020.
URL:https://villageofpoplar.com/event/roads-and-culverts-meeting-2/
CATEGORIES:Committee Meetings
END:VEVENT
BEGIN:VEVENT
DTSTART;TZID=America/Chicago:20200526T190000
DTEND;TZID=America/Chicago:20200526T190000
DTSTAMP:20260424T224700
CREATED:20191218T014350Z
LAST-MODIFIED:20191218T014350Z
UID:10000318-1590519600-1590519600@villageofpoplar.com
SUMMARY:Poplar Volunteer Fire Department Meeting
DESCRIPTION:
URL:https://villageofpoplar.com/event/poplar-volunteer-fire-department-meeting/2020-05-26/
CATEGORIES:PVFD
END:VEVENT
BEGIN:VEVENT
DTSTART;TZID=America/Chicago:20200516T080000
DTEND;TZID=America/Chicago:20200516T140000
DTSTAMP:20260424T224700
CREATED:20200423T005127Z
LAST-MODIFIED:20200424T132709Z
UID:10000334-1589616000-1589637600@villageofpoplar.com
SUMMARY:Village of Poplar Spring Clean up
DESCRIPTION:The Village of Poplar Spring Clean Up will be held Saturday\, May 16 from 8:00 a.m. to 2:00 p.m. \nThings that will be accepted:  All regular household cleanout items\, sale items that did not sell\, garage and shed cleanout items\, toys\, etc.  NO FOOD WASTE! \nAll furniture items are $5 a piece.\nMajor appliances (stoves\, dishwashers\, microwaves\, washers\, dryers\, hot water heaters\, furnaces\,) $10 a piece.\nBox springs $15 a piece.\nMattresses $25 a piece.\nNO refrigerators\, freezers\, air conditioners\, anything with Freon) will be accepted!!\nCar to pickup tires are $10 a piece.\nCar\, lawnmower\, tractor batteries are free.\nScrap iron is free.\nWe will not be accepting any electronics (T.V’s\, radios\, cell phones\, computers\, Computer accessories\, etc.)\nHousehold or industrial waste\, hazardous waste\, asbestos\, compost\, ashes\, or hot materials will not be accepted.\nNo propane tanks of any kind will be accepted.\nMachinery\, auto parts\, and waste oil will not be accepted. \nMUST BE RESIDENTS OF THE VILLAGE OF POPLAR.  PLEASE BRING HELP TO UNLOAD YOUR VEHICLE\, YOU ARE RESPONSIBLE FOR UNLOADING YOUR OWN ITEMS.
URL:https://villageofpoplar.com/event/village-of-poplar-spring-clean-up/
CATEGORIES:Events
END:VEVENT
BEGIN:VEVENT
DTSTART;TZID=America/Chicago:20200514T190000
DTEND;TZID=America/Chicago:20200514T210000
DTSTAMP:20260424T224700
CREATED:20170111T010000Z
LAST-MODIFIED:20191218T013539Z
UID:10000090-1589482800-1589490000@villageofpoplar.com
SUMMARY:Village Board Meeting
DESCRIPTION:
URL:https://villageofpoplar.com/event/village-board-meeting-2/2020-05-14/
CATEGORIES:Village Board
END:VEVENT
BEGIN:VEVENT
DTSTART;TZID=America/Chicago:20200514T185000
DTEND;TZID=America/Chicago:20200514T190000
DTSTAMP:20260424T224701
CREATED:20200513T151925Z
LAST-MODIFIED:20210524T132405Z
UID:10000337-1589482200-1589482800@villageofpoplar.com
SUMMARY:Board of Review
DESCRIPTION:
URL:https://villageofpoplar.com/event/board-of-review-2/
CATEGORIES:Board of Review
END:VEVENT
BEGIN:VEVENT
DTSTART;TZID=America/Chicago:20200512T080000
DTEND;TZID=America/Chicago:20200512T170000
DTSTAMP:20260424T224701
CREATED:20200512T164232Z
LAST-MODIFIED:20200512T164232Z
UID:10000335-1589270400-1589302800@villageofpoplar.com
SUMMARY:Poll Hours
DESCRIPTION:polling notice -5-12-2020
URL:https://villageofpoplar.com/event/poll-hours/
END:VEVENT
BEGIN:VEVENT
DTSTART;TZID=America/Chicago:20200512T070000
DTEND;TZID=America/Chicago:20200512T200000
DTSTAMP:20260424T224701
CREATED:20200512T164514Z
LAST-MODIFIED:20200512T164716Z
UID:10000336-1589266800-1589313600@villageofpoplar.com
SUMMARY:Poll Information
DESCRIPTION:polling notice -5-12-2020
URL:https://villageofpoplar.com/event/poll-information/
CATEGORIES:Election
END:VEVENT
BEGIN:VEVENT
DTSTART;VALUE=DATE:20200512
DTEND;VALUE=DATE:20200513
DTSTAMP:20260424T224701
CREATED:20191218T014804Z
LAST-MODIFIED:20191218T014804Z
UID:10000328-1589241600-1589327999@villageofpoplar.com
SUMMARY:Special Election – Congressional District 7
DESCRIPTION:
URL:https://villageofpoplar.com/event/special-election-congressional-district-7/
CATEGORIES:Election
END:VEVENT
BEGIN:VEVENT
DTSTART;TZID=America/Chicago:20200505T183000
DTEND;TZID=America/Chicago:20200505T183000
DTSTAMP:20260424T224701
CREATED:20191218T013833Z
LAST-MODIFIED:20201012T003803Z
UID:10000306-1588703400-1588703400@villageofpoplar.com
SUMMARY:Sewer Commission Meeting
DESCRIPTION:
URL:https://villageofpoplar.com/event/sewer-commission-meeting-15/2020-05-05/
CATEGORIES:Sewer Commission
END:VEVENT
BEGIN:VEVENT
DTSTART;TZID=America/Chicago:20200428T190000
DTEND;TZID=America/Chicago:20200428T190000
DTSTAMP:20260424T224701
CREATED:20191218T014350Z
LAST-MODIFIED:20191218T014350Z
UID:10000317-1588100400-1588100400@villageofpoplar.com
SUMMARY:Poplar Volunteer Fire Department Meeting
DESCRIPTION:
URL:https://villageofpoplar.com/event/poplar-volunteer-fire-department-meeting/2020-04-28/
CATEGORIES:PVFD
END:VEVENT
BEGIN:VEVENT
DTSTART;TZID=America/Chicago:20200414T190000
DTEND;TZID=America/Chicago:20200414T210000
DTSTAMP:20260424T224701
CREATED:20170111T010000Z
LAST-MODIFIED:20191218T013539Z
UID:10000089-1586890800-1586898000@villageofpoplar.com
SUMMARY:Village Board Meeting
DESCRIPTION:
URL:https://villageofpoplar.com/event/village-board-meeting-2/2020-04-14/
CATEGORIES:Village Board
END:VEVENT
BEGIN:VEVENT
DTSTART;TZID=America/Chicago:20200409T183000
DTEND;TZID=America/Chicago:20200409T183000
DTSTAMP:20260424T224701
CREATED:20191218T013833Z
LAST-MODIFIED:20201012T003803Z
UID:10000305-1586457000-1586457000@villageofpoplar.com
SUMMARY:Sewer Commission Meeting
DESCRIPTION:
URL:https://villageofpoplar.com/event/sewer-commission-meeting-15/2020-04-09/
CATEGORIES:Sewer Commission
END:VEVENT
BEGIN:VEVENT
DTSTART;VALUE=DATE:20200407
DTEND;VALUE=DATE:20200408
DTSTAMP:20260424T224701
CREATED:20191218T014733Z
LAST-MODIFIED:20191218T014733Z
UID:10000327-1586217600-1586303999@villageofpoplar.com
SUMMARY:Spring Election and Presidential Preference Primary
DESCRIPTION:
URL:https://villageofpoplar.com/event/spring-election-and-presidential-preference-primary/
CATEGORIES:Election
END:VEVENT
BEGIN:VEVENT
DTSTART;TZID=America/Chicago:20200324T190000
DTEND;TZID=America/Chicago:20200324T190000
DTSTAMP:20260424T224701
CREATED:20191218T014350Z
LAST-MODIFIED:20191218T014350Z
UID:10000316-1585076400-1585076400@villageofpoplar.com
SUMMARY:Poplar Volunteer Fire Department Meeting
DESCRIPTION:
URL:https://villageofpoplar.com/event/poplar-volunteer-fire-department-meeting/2020-03-24/
CATEGORIES:PVFD
END:VEVENT
BEGIN:VEVENT
DTSTART;TZID=America/Chicago:20200324T063000
DTEND;TZID=America/Chicago:20200324T190000
DTSTAMP:20260424T224701
CREATED:20200303T121104Z
LAST-MODIFIED:20200303T121757Z
UID:10000333-1585031400-1585076400@villageofpoplar.com
SUMMARY:Streets and Highway Committee Meeting
DESCRIPTION:NOTICE:  There will be a Streets and Highway Committee Meeting held on Tuesday\, March 24 at 6:30 p.m.  The meeting will be held at the Village Hall – 4932 S Village Road.  The purpose of the meeting is to discuss the projects for 2020.
URL:https://villageofpoplar.com/event/streets-and-highway-committee-meeting/
CATEGORIES:Committee Meetings
END:VEVENT
BEGIN:VEVENT
DTSTART;TZID=America/Chicago:20200319T190000
DTEND;TZID=America/Chicago:20200319T203000
DTSTAMP:20260424T224701
CREATED:20200303T120556Z
LAST-MODIFIED:20200303T120556Z
UID:10000332-1584644400-1584649800@villageofpoplar.com
SUMMARY:Ordinance Committee Meeting
DESCRIPTION:NOTICE:  There will be an Ordinance Committee Meeting held on Thursday\, March 19 at 7:00 p.m.  The meeting will be held at the Village Hall – 4932 S Village Road.  The purpose of the meeting is to work on organizing the Village ordinances.
URL:https://villageofpoplar.com/event/ordinance-committee-meeting-2/
CATEGORIES:Committee Meetings
END:VEVENT
BEGIN:VEVENT
DTSTART;TZID=America/Chicago:20200310T190000
DTEND;TZID=America/Chicago:20200310T210000
DTSTAMP:20260424T224701
CREATED:20170111T010000Z
LAST-MODIFIED:20191218T013539Z
UID:10000088-1583866800-1583874000@villageofpoplar.com
SUMMARY:Village Board Meeting
DESCRIPTION:
URL:https://villageofpoplar.com/event/village-board-meeting-2/2020-03-10/
CATEGORIES:Village Board
END:VEVENT
BEGIN:VEVENT
DTSTART;TZID=America/Chicago:20200303T183000
DTEND;TZID=America/Chicago:20200303T183000
DTSTAMP:20260424T224701
CREATED:20191218T013833Z
LAST-MODIFIED:20201012T003803Z
UID:10000304-1583260200-1583260200@villageofpoplar.com
SUMMARY:Sewer Commission Meeting
DESCRIPTION:
URL:https://villageofpoplar.com/event/sewer-commission-meeting-15/2020-03-03/
CATEGORIES:Sewer Commission
END:VEVENT
BEGIN:VEVENT
DTSTART;TZID=America/Chicago:20200225T190000
DTEND;TZID=America/Chicago:20200225T210000
DTSTAMP:20260424T224701
CREATED:20200206T142931Z
LAST-MODIFIED:20200206T143001Z
UID:10000331-1582657200-1582664400@villageofpoplar.com
SUMMARY:Ordinance Committee Meeting
DESCRIPTION:
URL:https://villageofpoplar.com/event/ordinance-committee-meeting/
CATEGORIES:Committee Meetings
END:VEVENT
BEGIN:VEVENT
DTSTART;TZID=America/Chicago:20200225T190000
DTEND;TZID=America/Chicago:20200225T190000
DTSTAMP:20260424T224701
CREATED:20191218T014350Z
LAST-MODIFIED:20191218T014350Z
UID:10000315-1582657200-1582657200@villageofpoplar.com
SUMMARY:Poplar Volunteer Fire Department Meeting
DESCRIPTION:
URL:https://villageofpoplar.com/event/poplar-volunteer-fire-department-meeting/2020-02-25/
CATEGORIES:PVFD
END:VEVENT
BEGIN:VEVENT
DTSTART;VALUE=DATE:20200218
DTEND;VALUE=DATE:20200219
DTSTAMP:20260424T224701
CREATED:20191218T014711Z
LAST-MODIFIED:20191218T014711Z
UID:10000326-1581984000-1582070399@villageofpoplar.com
SUMMARY:Spring Primary
DESCRIPTION:
URL:https://villageofpoplar.com/event/spring-primary/
CATEGORIES:Election
END:VEVENT
BEGIN:VEVENT
DTSTART;TZID=America/Chicago:20200211T190000
DTEND;TZID=America/Chicago:20200211T210000
DTSTAMP:20260424T224701
CREATED:20170111T010000Z
LAST-MODIFIED:20191218T013539Z
UID:10000087-1581447600-1581454800@villageofpoplar.com
SUMMARY:Village Board Meeting
DESCRIPTION:
URL:https://villageofpoplar.com/event/village-board-meeting-2/2020-02-11/
CATEGORIES:Village Board
END:VEVENT
BEGIN:VEVENT
DTSTART;TZID=America/Chicago:20200204T183000
DTEND;TZID=America/Chicago:20200204T183000
DTSTAMP:20260424T224701
CREATED:20191218T013833Z
LAST-MODIFIED:20201012T003803Z
UID:10000303-1580841000-1580841000@villageofpoplar.com
SUMMARY:Sewer Commission Meeting
DESCRIPTION:
URL:https://villageofpoplar.com/event/sewer-commission-meeting-15/2020-02-04/
CATEGORIES:Sewer Commission
END:VEVENT
BEGIN:VEVENT
DTSTART;TZID=America/Chicago:20200128T190000
DTEND;TZID=America/Chicago:20200128T190000
DTSTAMP:20260424T224701
CREATED:20191218T014350Z
LAST-MODIFIED:20191218T014350Z
UID:10000314-1580238000-1580238000@villageofpoplar.com
SUMMARY:Poplar Volunteer Fire Department Meeting
DESCRIPTION:
URL:https://villageofpoplar.com/event/poplar-volunteer-fire-department-meeting/2020-01-28/
CATEGORIES:PVFD
END:VEVENT
BEGIN:VEVENT
DTSTART;TZID=America/Chicago:20200114T190000
DTEND;TZID=America/Chicago:20200114T210000
DTSTAMP:20260424T224701
CREATED:20170111T010000Z
LAST-MODIFIED:20191218T013539Z
UID:10000086-1579028400-1579035600@villageofpoplar.com
SUMMARY:Village Board Meeting
DESCRIPTION:
URL:https://villageofpoplar.com/event/village-board-meeting-2/2020-01-14/
CATEGORIES:Village Board
END:VEVENT
BEGIN:VEVENT
DTSTART;TZID=America/Chicago:20200107T183000
DTEND;TZID=America/Chicago:20200107T183000
DTSTAMP:20260424T224701
CREATED:20191218T013833Z
LAST-MODIFIED:20201012T003803Z
UID:10000302-1578421800-1578421800@villageofpoplar.com
SUMMARY:Sewer Commission Meeting
DESCRIPTION:
URL:https://villageofpoplar.com/event/sewer-commission-meeting-15/2020-01-07/
CATEGORIES:Sewer Commission
END:VEVENT
BEGIN:VEVENT
DTSTART;TZID=America/Chicago:20200103T090000
DTEND;TZID=America/Chicago:20200103T150000
DTSTAMP:20260424T224701
CREATED:20191212T025418Z
LAST-MODIFIED:20191212T025418Z
UID:10000301-1578042000-1578063600@villageofpoplar.com
SUMMARY:Village Office Hours
DESCRIPTION:
URL:https://villageofpoplar.com/event/village-office-hours-10/2020-01-03/
CATEGORIES:Office Hours
END:VEVENT
BEGIN:VEVENT
DTSTART;VALUE=DATE:20200102
DTEND;VALUE=DATE:20200103
DTSTAMP:20260424T224701
CREATED:20191212T024921Z
LAST-MODIFIED:20191212T024921Z
UID:10000294-1577923200-1578009599@villageofpoplar.com
SUMMARY:Village Office Hours -  Open by Appointment Only
DESCRIPTION:
URL:https://villageofpoplar.com/event/village-office-hours-open-by-appointment-only/2020-01-02/
CATEGORIES:Office Hours
END:VEVENT
END:VCALENDAR