BEGIN:VCALENDAR
VERSION:2.0
PRODID:-//Village of Poplar, Douglas County, Wisconsin - ECPv6.15.17.1//NONSGML v1.0//EN
CALSCALE:GREGORIAN
METHOD:PUBLISH
X-WR-CALNAME:Village of Poplar, Douglas County, Wisconsin
X-ORIGINAL-URL:https://villageofpoplar.com
X-WR-CALDESC:Events for Village of Poplar, Douglas County, Wisconsin
REFRESH-INTERVAL;VALUE=DURATION:PT1H
X-Robots-Tag:noindex
X-PUBLISHED-TTL:PT1H
BEGIN:VTIMEZONE
TZID:America/Chicago
BEGIN:DAYLIGHT
TZOFFSETFROM:-0600
TZOFFSETTO:-0500
TZNAME:CDT
DTSTART:20230312T080000
END:DAYLIGHT
BEGIN:STANDARD
TZOFFSETFROM:-0500
TZOFFSETTO:-0600
TZNAME:CST
DTSTART:20231105T070000
END:STANDARD
BEGIN:DAYLIGHT
TZOFFSETFROM:-0600
TZOFFSETTO:-0500
TZNAME:CDT
DTSTART:20240310T080000
END:DAYLIGHT
BEGIN:STANDARD
TZOFFSETFROM:-0500
TZOFFSETTO:-0600
TZNAME:CST
DTSTART:20241103T070000
END:STANDARD
BEGIN:DAYLIGHT
TZOFFSETFROM:-0600
TZOFFSETTO:-0500
TZNAME:CDT
DTSTART:20250309T080000
END:DAYLIGHT
BEGIN:STANDARD
TZOFFSETFROM:-0500
TZOFFSETTO:-0600
TZNAME:CST
DTSTART:20251102T070000
END:STANDARD
END:VTIMEZONE
BEGIN:VEVENT
DTSTART;TZID=America/Chicago:20240808T163000
DTEND;TZID=America/Chicago:20240808T183000
DTSTAMP:20260423T102029
CREATED:20240729T023926Z
LAST-MODIFIED:20240729T023926Z
UID:10000527-1723134600-1723141800@villageofpoplar.com
SUMMARY:Open Book
DESCRIPTION:
URL:https://villageofpoplar.com/event/open-book-5/
CATEGORIES:Meetings
END:VEVENT
BEGIN:VEVENT
DTSTART;TZID=America/Chicago:20240813T070000
DTEND;TZID=America/Chicago:20240813T200000
DTSTAMP:20260423T102029
CREATED:20231229T162826Z
LAST-MODIFIED:20231229T162826Z
UID:10000458-1723532400-1723579200@villageofpoplar.com
SUMMARY:Election
DESCRIPTION:
URL:https://villageofpoplar.com/event/election-5/
CATEGORIES:Election
END:VEVENT
BEGIN:VEVENT
DTSTART;TZID=America/Chicago:20240815T163000
DTEND;TZID=America/Chicago:20240815T183000
DTSTAMP:20260423T102029
CREATED:20240729T024025Z
LAST-MODIFIED:20240729T024025Z
UID:10000528-1723739400-1723746600@villageofpoplar.com
SUMMARY:Board of Review
DESCRIPTION:
URL:https://villageofpoplar.com/event/board-of-review-7/
CATEGORIES:Board of Review
END:VEVENT
BEGIN:VEVENT
DTSTART;TZID=America/Chicago:20240815T190000
DTEND;TZID=America/Chicago:20240815T190000
DTSTAMP:20260423T102029
CREATED:20240109T190958Z
LAST-MODIFIED:20240109T190958Z
UID:10000496-1723748400-1723748400@villageofpoplar.com
SUMMARY:Village Board Meeting
DESCRIPTION:
URL:https://villageofpoplar.com/event/village-board-meeting-23/
CATEGORIES:Village Board
END:VEVENT
BEGIN:VEVENT
DTSTART;TZID=America/Chicago:20240827T190000
DTEND;TZID=America/Chicago:20240827T190000
DTSTAMP:20260423T102029
CREATED:20231229T163019Z
LAST-MODIFIED:20231229T163520Z
UID:10000467-1724785200-1724785200@villageofpoplar.com
SUMMARY:Volunteer Fire Department Meeting
DESCRIPTION:
URL:https://villageofpoplar.com/event/fire-department-meeting-2/2024-08-27/
CATEGORIES:PVFD
END:VEVENT
END:VCALENDAR